BEGIN:VCALENDAR
VERSION:2.0
PRODID:-//United Through Reading - ECPv6.15.20//NONSGML v1.0//EN
CALSCALE:GREGORIAN
METHOD:PUBLISH
X-ORIGINAL-URL:https://unitedthroughreading.org
X-WR-CALDESC:Events for United Through Reading
REFRESH-INTERVAL;VALUE=DURATION:PT1H
X-Robots-Tag:noindex
X-PUBLISHED-TTL:PT1H
BEGIN:VTIMEZONE
TZID:America/Anchorage
BEGIN:DAYLIGHT
TZOFFSETFROM:-0900
TZOFFSETTO:-0800
TZNAME:AKDT
DTSTART:20230312T110000
END:DAYLIGHT
BEGIN:STANDARD
TZOFFSETFROM:-0800
TZOFFSETTO:-0900
TZNAME:AKST
DTSTART:20231105T100000
END:STANDARD
BEGIN:DAYLIGHT
TZOFFSETFROM:-0900
TZOFFSETTO:-0800
TZNAME:AKDT
DTSTART:20240310T110000
END:DAYLIGHT
BEGIN:STANDARD
TZOFFSETFROM:-0800
TZOFFSETTO:-0900
TZNAME:AKST
DTSTART:20241103T100000
END:STANDARD
BEGIN:DAYLIGHT
TZOFFSETFROM:-0900
TZOFFSETTO:-0800
TZNAME:AKDT
DTSTART:20250309T110000
END:DAYLIGHT
BEGIN:STANDARD
TZOFFSETFROM:-0800
TZOFFSETTO:-0900
TZNAME:AKST
DTSTART:20251102T100000
END:STANDARD
END:VTIMEZONE
BEGIN:VEVENT
DTSTART;TZID=America/Anchorage:20240215T100000
DTEND;TZID=America/Anchorage:20240215T130000
DTSTAMP:20260424T060121
CREATED:20240213T222350Z
LAST-MODIFIED:20240213T222350Z
UID:10000233-1707991200-1708002000@unitedthroughreading.org
SUMMARY:Alaska ANG Recording Event
DESCRIPTION:
URL:https://unitedthroughreading.org/event/alaska-ang-recording-event/
LOCATION:168th Wing\, 375 Tanker Rd\, Eielson AFB\, AK\, 99702\, United States
CATEGORIES:Calendar,Community Event
GEO:64.6718281;-147.0906016
X-APPLE-STRUCTURED-LOCATION;VALUE=URI;X-ADDRESS=168th Wing 375 Tanker Rd Eielson AFB AK 99702 United States;X-APPLE-RADIUS=500;X-TITLE=375 Tanker Rd:geo:-147.0906016,64.6718281
END:VEVENT
BEGIN:VEVENT
DTSTART;TZID=America/Anchorage:20240215T100000
DTEND;TZID=America/Anchorage:20240215T130000
DTSTAMP:20260424T060121
CREATED:20240213T222350Z
LAST-MODIFIED:20240213T222350Z
UID:10000878-1707991200-1708002000@unitedthroughreading.org
SUMMARY:Alaska ANG Recording Event
DESCRIPTION:
URL:https://unitedthroughreading.org/event/alaska-ang-recording-event-2/
LOCATION:168th Wing\, 375 Tanker Rd\, Eielson AFB\, AK\, 99702\, United States
CATEGORIES:Calendar,Community Event
GEO:64.6718281;-147.0906016
X-APPLE-STRUCTURED-LOCATION;VALUE=URI;X-ADDRESS=168th Wing 375 Tanker Rd Eielson AFB AK 99702 United States;X-APPLE-RADIUS=500;X-TITLE=375 Tanker Rd:geo:-147.0906016,64.6718281
END:VEVENT
END:VCALENDAR