BEGIN:VCALENDAR
VERSION:2.0
PRODID:-//United Through Reading - ECPv6.15.20//NONSGML v1.0//EN
CALSCALE:GREGORIAN
METHOD:PUBLISH
X-ORIGINAL-URL:https://unitedthroughreading.org
X-WR-CALDESC:Events for United Through Reading
REFRESH-INTERVAL;VALUE=DURATION:PT1H
X-Robots-Tag:noindex
X-PUBLISHED-TTL:PT1H
BEGIN:VTIMEZONE
TZID:America/Los_Angeles
BEGIN:DAYLIGHT
TZOFFSETFROM:-0800
TZOFFSETTO:-0700
TZNAME:PDT
DTSTART:20220313T100000
END:DAYLIGHT
BEGIN:STANDARD
TZOFFSETFROM:-0700
TZOFFSETTO:-0800
TZNAME:PST
DTSTART:20221106T090000
END:STANDARD
BEGIN:DAYLIGHT
TZOFFSETFROM:-0800
TZOFFSETTO:-0700
TZNAME:PDT
DTSTART:20230312T100000
END:DAYLIGHT
BEGIN:STANDARD
TZOFFSETFROM:-0700
TZOFFSETTO:-0800
TZNAME:PST
DTSTART:20231105T090000
END:STANDARD
BEGIN:DAYLIGHT
TZOFFSETFROM:-0800
TZOFFSETTO:-0700
TZNAME:PDT
DTSTART:20240310T100000
END:DAYLIGHT
BEGIN:STANDARD
TZOFFSETFROM:-0700
TZOFFSETTO:-0800
TZNAME:PST
DTSTART:20241103T090000
END:STANDARD
END:VTIMEZONE
BEGIN:VEVENT
DTSTART;TZID=America/Los_Angeles:20230405T153000
DTEND;TZID=America/Los_Angeles:20230405T183000
DTSTAMP:20260424T105459
CREATED:20230327T194529Z
LAST-MODIFIED:20230327T194529Z
UID:10000155-1680708600-1680719400@unitedthroughreading.org
SUMMARY:MCLB Barstow: Mobile Story Station West Roadshow 2023
DESCRIPTION:The Mobile Story Station West Roadshow will be at MCLB Barstow’s Spring Festival with free books and the opportunity to make a storytime recording. \nThe Mobile Story Station West Roadshow is proudly supported by Viasat.
URL:https://unitedthroughreading.org/event/mclb-barstow-mobile-story-station-west-roadshow-2023/
LOCATION:Family Advocacy Program Building\, BLDG 218\, Barstow\, CA\, 92311\, United States
CATEGORIES:Mobile Story Station Events
ATTACH;FMTTYPE=image/png:https://unitedthroughreading.org/wp-content/uploads/2023/03/Mobile-Story-Station-Roadshow-2023.png
END:VEVENT
BEGIN:VEVENT
DTSTART;TZID=America/Los_Angeles:20230405T153000
DTEND;TZID=America/Los_Angeles:20230405T183000
DTSTAMP:20260424T105459
CREATED:20230327T194529Z
LAST-MODIFIED:20230327T194529Z
UID:10000874-1680708600-1680719400@unitedthroughreading.org
SUMMARY:MCLB Barstow: Mobile Story Station West Roadshow 2023
DESCRIPTION:The Mobile Story Station West Roadshow will be at MCLB Barstow’s Spring Festival with free books and the opportunity to make a storytime recording. \nThe Mobile Story Station West Roadshow is proudly supported by Viasat.
URL:https://unitedthroughreading.org/event/mclb-barstow-mobile-story-station-west-roadshow-2023-2/
LOCATION:Family Advocacy Program Building\, BLDG 218\, Barstow\, CA\, 92311\, United States
CATEGORIES:Mobile Story Station Events
ATTACH;FMTTYPE=image/png:https://unitedthroughreading.org/wp-content/uploads/2023/03/Mobile-Story-Station-Roadshow-2023.png
END:VEVENT
END:VCALENDAR